BEGIN:VCALENDAR
VERSION:2.0
PRODID:-//ChamberMaster//Event Calendar 2.0//EN
METHOD:PUBLISH
X-PUBLISHED-TTL:P3D
REFRESH-INTERVAL:P3D
CALSCALE:GREGORIAN
BEGIN:VEVENT
DTSTART;VALUE=DATE:20080506
DTEND;VALUE=DATE:20080507
TRANSP:TRANSPARENT
X-MICROSOFT-CDO-ALLDAYEVENT:TRUE
SUMMARY:OPEN HOUSE
DESCRIPTION:ALLIED POWER MART\, INC. OPEN HOUSE
X-ALT-DESC;FMTTYPE=text/html:ALLIED POWER MART\, INC. OPEN HOUSE
LOCATION:15552 I-45 SOUTH CONROE\, TEXAS 77384
UID:e.155.2445
SEQUENCE:3
DTSTAMP:20260421T130047Z
URL:https://business.tomballchamber.org/events/details/open-house-05-06-2008-2445
END:VEVENT

END:VCALENDAR
