BEGIN:VCALENDAR
VERSION:2.0
PRODID:-//ChamberMaster//Event Calendar 2.0//EN
METHOD:PUBLISH
X-PUBLISHED-TTL:P3D
REFRESH-INTERVAL:P3D
CALSCALE:GREGORIAN
BEGIN:VEVENT
DTSTART:20080120T210000Z
DTEND:20080120T230000Z
X-MICROSOFT-CDO-ALLDAYEVENT:FALSE
SUMMARY:NW Private School Preview
DESCRIPTION:CONSIDERING A PRIVATE SCHOOL?\nCome explore the rich avariety of private schools available in our community. The 6th annual NW Private School Preview will be held on Sunday\, January 20\, 2008 from 3:00 PM until 5:00 PM . This fee event provides the opportunity to visit with representatives from over 20 private\, independent and parochail schools in one location. Sponsored by Chick-fil-A\, the event attracts families from all over the greater NW Houston area.
X-ALT-DESC;FMTTYPE=text/html:CONSIDERING A PRIVATE SCHOOL?\nCome explore the rich avariety of private schools available in our community. The 6th annual NW Private School Preview will be held on Sunday\, January 20\, 2008 from 3:00 PM until 5:00 PM . This fee event provides the opportunity to visit with representatives from over 20 private\, independent and parochail schools in one location. Sponsored by Chick-fil-A\, the event attracts families from all over the greater NW Houston area. 
LOCATION:Champion Forest Baptist Church 15555 Stuebner-Airline Rd.
UID:e.155.2375
SEQUENCE:3
DTSTAMP:20260421T200526Z
URL:https://business.tomballchamber.org/events/details/nw-private-school-preview-01-20-2008-2375
END:VEVENT

END:VCALENDAR
