BEGIN:VCALENDAR
VERSION:2.0
PRODID:-//ChamberMaster//Event Calendar 2.0//EN
METHOD:PUBLISH
X-PUBLISHED-TTL:P3D
REFRESH-INTERVAL:P3D
CALSCALE:GREGORIAN
BEGIN:VEVENT
DTSTART:20070619T200000Z
DTEND:20070619T213000Z
X-MICROSOFT-CDO-ALLDAYEVENT:FALSE
SUMMARY:Nonfiction Book Club
DESCRIPTION:This month\, the nonfiction book club of the Tomball College & Community Library will discuss Blind Into Baghdad by Atlantic Monthly columnist James Fallows.
X-ALT-DESC;FMTTYPE=text/html:This month\, the nonfiction book club of the Tomball College & Community Library will discuss Blind Into Baghdad by Atlantic Monthly columnist James Fallows.  
LOCATION:Tomball College & Community Library 2nd floor Conference Room
UID:e.155.2248
SEQUENCE:3
DTSTAMP:20260422T075130Z
URL:https://business.tomballchamber.org/events/details/nonfiction-book-club-06-19-2007-2248
END:VEVENT

END:VCALENDAR
