BEGIN:VCALENDAR
VERSION:2.0
PRODID:-//ChamberMaster//Event Calendar 2.0//EN
METHOD:PUBLISH
X-PUBLISHED-TTL:P3D
REFRESH-INTERVAL:P3D
CALSCALE:GREGORIAN
BEGIN:VEVENT
DTSTART;VALUE=DATE:20080607
DTEND;VALUE=DATE:20080608
TRANSP:TRANSPARENT
X-MICROSOFT-CDO-ALLDAYEVENT:TRUE
SUMMARY:Noah's Ark Animal Sanctuary National Adopt-a-thon Festival
DESCRIPTION:Noah's Ark is treaming with Doris Day's North Shore Animal League to hold a National Adopt-a-thon Festival.  Come enjoy a plate of BBQ along with cotton candy and popcorn.  There will be a moonwalk\, dog grooming\, dog training\, dog/owner look-a-like contest\, best dressed pet contest. silent auction\, raffle and many other booths to enjoy visiting.  Music and entertainment will be provided by John Prince with Entertainment Tonight.  For more information\, please contact Noah's Ark at 281-351-6624 or visit our website at www.noahs-ark-sanctuary.org
X-ALT-DESC;FMTTYPE=text/html:Noah's Ark is treaming with Doris Day's North Shore Animal League to hold a National Adopt-a-thon Festival.  Come enjoy a plate of BBQ along with cotton candy and popcorn.  There will be a moonwalk\, dog grooming\, dog training\, dog/owner look-a-like contest\, best dressed pet contest. silent auction\, raffle and many other booths to enjoy visiting.  Music and entertainment will be provided by John Prince with Entertainment Tonight.  For more information\, please contact Noah's Ark at 281-351-6624 or visit our website at www.noahs-ark-sanctuary.org\n
LOCATION:18430 K-Z Road Cypress\, Texas 77433
UID:e.155.2477
SEQUENCE:3
DTSTAMP:20260421T111235Z
URL:https://business.tomballchamber.org/events/details/noah-s-ark-animal-sanctuary-national-adopt-a-thon-festival-06-07-2008-2477
END:VEVENT

END:VCALENDAR
