BEGIN:VCALENDAR
VERSION:2.0
PRODID:-//ChamberMaster//Event Calendar 2.0//EN
METHOD:PUBLISH
X-PUBLISHED-TTL:P3D
REFRESH-INTERVAL:P3D
CALSCALE:GREGORIAN
BEGIN:VEVENT
DTSTART:20080522T170000Z
DTEND:20080522T180000Z
X-MICROSOFT-CDO-ALLDAYEVENT:FALSE
SUMMARY:New Membership Luncheon
DESCRIPTION:Are you a new member?  Have you gone to a New Member Luncheon or Breakfast?If not\, please join us this month at La Villa Del Pubelo Mexican Restaurant and learn allabout what the Chamber has to offer you.  We would also love the chance to get to know you betterso we can help promote your business.
X-ALT-DESC;FMTTYPE=text/html:<div>Are you a new member?&nbsp\; Have you gone to a New Member Luncheon or Breakfast?</div><div>If not\, please join us this month at La Villa Del Pubelo Mexican Restaurant and learn all</div><div>about what the Chamber has to offer you.&nbsp\; We would also love the chance to get to know you better</div><div>so we can help promote your business.</div>
LOCATION:La Villa Del Pueblo Mexican RestaurantTomball Parkway
UID:e.155.2504
SEQUENCE:3
DTSTAMP:20260421T130214Z
URL:https://business.tomballchamber.org/events/details/new-membership-luncheon-05-22-2008-2504
END:VEVENT

END:VCALENDAR
