BEGIN:VCALENDAR
VERSION:2.0
PRODID:-//ChamberMaster//Event Calendar 2.0//EN
METHOD:PUBLISH
X-PUBLISHED-TTL:P3D
REFRESH-INTERVAL:P3D
CALSCALE:GREGORIAN
BEGIN:VEVENT
DTSTART:20080806T170000Z
DTEND:20080806T180000Z
X-MICROSOFT-CDO-ALLDAYEVENT:FALSE
SUMMARY:New Member Luncheon
DESCRIPTION:Are you a New Chamber Member who would like to know more about getting connected within the Tomball Chamber?   Please join us for a New Member Luncheon on Wednesday\, August 6 at noon at Le Gourmet Bistro.
X-ALT-DESC;FMTTYPE=text/html:<div><div><div>Are you a New Chamber Member who would like to know more about getting connected within the Tomball Chamber?&nbsp\;&nbsp\; Please join us for a New Member Luncheon on Wednesday\,&nbsp\;August 6&nbsp\;at noon at&nbsp\;Le Gourmet Bistro.</div></div></div>
LOCATION:Le Gourmet Bistro - 209 Commerce
UID:e.155.2560
SEQUENCE:3
DTSTAMP:20260421T093745Z
URL:https://business.tomballchamber.org/events/details/new-member-luncheon-08-06-2008-2560
END:VEVENT

END:VCALENDAR
