BEGIN:VCALENDAR
VERSION:2.0
PRODID:-//ChamberMaster//Event Calendar 2.0//EN
METHOD:PUBLISH
X-PUBLISHED-TTL:P3D
REFRESH-INTERVAL:P3D
CALSCALE:GREGORIAN
BEGIN:VEVENT
DTSTART:20080423T170000Z
DTEND:20080423T180000Z
X-MICROSOFT-CDO-ALLDAYEVENT:FALSE
SUMMARY:New Member Luncheon
DESCRIPTION:New Member Luncheon - any new member who has not attended a New Member Breakfast or Luncheon is invited to attend a special luncheon in your honor.  Informative lunch on getting involved with the Chamber and receiving the most from your investment.
X-ALT-DESC;FMTTYPE=text/html:<p>New Member Luncheon - any new member who has not attended a New Member Breakfast or Luncheon is invited to attend a special luncheon in your honor.&nbsp\; Informative lunch on getting involved with the Chamber and&nbsp\;receiving the most from your investment.</p>
LOCATION:LeGourmet BistroCommerce Street
UID:e.155.2469
SEQUENCE:3
DTSTAMP:20260421T164025Z
URL:https://business.tomballchamber.org/events/details/new-member-luncheon-04-23-2008-2469
END:VEVENT

END:VCALENDAR
