BEGIN:VCALENDAR
VERSION:2.0
PRODID:-//ChamberMaster//Event Calendar 2.0//EN
METHOD:PUBLISH
X-PUBLISHED-TTL:P3D
REFRESH-INTERVAL:P3D
CALSCALE:GREGORIAN
BEGIN:VEVENT
DTSTART:20080415T010000Z
DTEND:20080415T020000Z
X-MICROSOFT-CDO-ALLDAYEVENT:FALSE
SUMMARY:New Member Breakfast
DESCRIPTION:Any new member who has not attended a New Member Breakfast or Luncheonis invited to attend this informative meeting.  Get information on how to best getinvolved with the Chamber and receive the most benefits from your investment.
X-ALT-DESC;FMTTYPE=text/html:<div>Any new member who has not attended a New Member Breakfast or Luncheon</div><div>is invited to attend this informative meeting.&nbsp\; Get information on how to best get</div><div>involved with the Chamber and receive the most benefits from your investment.</div>
LOCATION:Harris County SmokehouseFM 2920 - Tomball
UID:e.155.2466
SEQUENCE:3
DTSTAMP:20260421T163951Z
URL:https://business.tomballchamber.org/events/details/new-member-breakfast-04-14-2008-2466
END:VEVENT

END:VCALENDAR
