BEGIN:VCALENDAR
VERSION:2.0
PRODID:-//ChamberMaster//Event Calendar 2.0//EN
METHOD:PUBLISH
X-PUBLISHED-TTL:P3D
REFRESH-INTERVAL:P3D
CALSCALE:GREGORIAN
BEGIN:VEVENT
DTSTART;VALUE=DATE:20070909
DTEND;VALUE=DATE:20070910
TRANSP:TRANSPARENT
X-MICROSOFT-CDO-ALLDAYEVENT:TRUE
SUMMARY:New Day at Salem Celebration
DESCRIPTION:The community is invited to celebrate a New Day at Salem with the launch of two new worship times at 9 a.m. and 10:30 a.m. Identical worship\, family-friendly and room for you!\n\nNew Sunday children's program\, Kidz Power Hour!\, adult Sunday classes run concurrently with the new worship time at 10:30 a.m.
X-ALT-DESC;FMTTYPE=text/html:The community is invited to celebrate a New Day at Salem with the launch of two new worship times at 9 a.m. and 10:30 a.m. Identical worship\, family-friendly and room for you!\n\nNew Sunday children's program\, Kidz Power Hour!\, adult Sunday classes run concurrently with the new worship time at 10:30 a.m.
LOCATION:Salem Lutheran Church
UID:e.155.2291
SEQUENCE:3
DTSTAMP:20260422T044021Z
URL:https://business.tomballchamber.org/events/details/new-day-at-salem-celebration-09-09-2007-2291
END:VEVENT

END:VCALENDAR
