BEGIN:VCALENDAR
VERSION:2.0
PRODID:-//ChamberMaster//Event Calendar 2.0//EN
METHOD:PUBLISH
X-PUBLISHED-TTL:P3D
REFRESH-INTERVAL:P3D
CALSCALE:GREGORIAN
BEGIN:VEVENT
DTSTART:20080424T180000Z
DTEND:20080424T210000Z
X-MICROSOFT-CDO-ALLDAYEVENT:FALSE
SUMMARY:Mystery Writer's Conference
DESCRIPTION:Join us and meet 10 Texas authors\, who will discuss the theme Myth or Truth: How Our Past Influences Our Writing.  Following their presentation\, a book sale and signing will be available.  Light refreshments will be served. For more information\, call 832-559-4213.
X-ALT-DESC;FMTTYPE=text/html:Join us and meet 10 Texas authors\, who will discuss the theme Myth or Truth: How Our Past Influences Our Writing.  Following their presentation\, a book sale and signing will be available.  Light refreshments will be served. For more information\, call 832-559-4213.
LOCATION:Lone Star College - Tomball Community Library Room L129
UID:e.155.2463
SEQUENCE:3
DTSTAMP:20260421T145639Z
URL:https://business.tomballchamber.org/events/details/mystery-writer-s-conference-04-24-2008-2463
END:VEVENT

END:VCALENDAR
