BEGIN:VCALENDAR
VERSION:2.0
PRODID:-//ChamberMaster//Event Calendar 2.0//EN
METHOD:PUBLISH
X-PUBLISHED-TTL:P3D
REFRESH-INTERVAL:P3D
CALSCALE:GREGORIAN
BEGIN:VEVENT
DTSTART:20070825T150000Z
DTEND:20070825T200000Z
X-MICROSOFT-CDO-ALLDAYEVENT:FALSE
SUMMARY:MR. COOL Automotive
DESCRIPTION:Grand Opening of New Location
X-ALT-DESC;FMTTYPE=text/html:Grand Opening of New Location
LOCATION:10045 FM 2920
UID:e.155.2306
SEQUENCE:3
DTSTAMP:20260422T060058Z
URL:https://business.tomballchamber.org/events/details/mr-cool-automotive-08-25-2007-2306
END:VEVENT

END:VCALENDAR
