BEGIN:VCALENDAR
VERSION:2.0
PRODID:-//ChamberMaster//Event Calendar 2.0//EN
METHOD:PUBLISH
X-PUBLISHED-TTL:P3D
REFRESH-INTERVAL:P3D
CALSCALE:GREGORIAN
BEGIN:VEVENT
DTSTART;VALUE=DATE:20080327
DTEND;VALUE=DATE:20080328
TRANSP:TRANSPARENT
X-MICROSOFT-CDO-ALLDAYEVENT:TRUE
SUMMARY:Morning Glory Ranch Black Tie & Boots Gala Fundraiser
DESCRIPTION:Dinner\, Dancing and Silent Auction benefiting Morning Glory Ranch\, a 501(c)3 organization that provides equestrian therapy for autistic and disable children and adults.
X-ALT-DESC;FMTTYPE=text/html:Dinner\, Dancing and Silent Auction benefiting Morning Glory Ranch\, a 501(c)3 organization that provides equestrian therapy for autistic and disable children and adults.  
LOCATION:House Plantation\, Hockley\, TX
UID:e.155.2443
SEQUENCE:3
DTSTAMP:20260421T182755Z
URL:https://business.tomballchamber.org/events/details/morning-glory-ranch-black-tie-boots-gala-fundraiser-03-27-2008-2443
END:VEVENT

END:VCALENDAR
