BEGIN:VCALENDAR
VERSION:2.0
PRODID:-//ChamberMaster//Event Calendar 2.0//EN
METHOD:PUBLISH
X-PUBLISHED-TTL:P3D
REFRESH-INTERVAL:P3D
CALSCALE:GREGORIAN
BEGIN:VEVENT
DTSTART:20071118T010000Z
DTEND:20071118T040000Z
X-MICROSOFT-CDO-ALLDAYEVENT:FALSE
SUMMARY:Miss Tomball Pageant
DESCRIPTION:
X-ALT-DESC;FMTTYPE=text/html:
LOCATION:
UID:e.155.2358
SEQUENCE:3
DTSTAMP:20260421T233440Z
URL:https://business.tomballchamber.org/events/details/miss-tomball-pageant-11-17-2007-2358
END:VEVENT

END:VCALENDAR
