BEGIN:VCALENDAR
VERSION:2.0
PRODID:-//ChamberMaster//Event Calendar 2.0//EN
METHOD:PUBLISH
X-PUBLISHED-TTL:P3D
REFRESH-INTERVAL:P3D
CALSCALE:GREGORIAN
BEGIN:VEVENT
DTSTART:20221120T010000Z
DTEND:20221120T040000Z
X-MICROSOFT-CDO-ALLDAYEVENT:FALSE
SUMMARY:Miss Tomball 2023
DESCRIPTION:Miss Tomball 2023 presented by Aloha Beauty Lounge is a strong community tradition and we are happy to be  celebrating Tomball's best! We will be crowning our Miss Tomball for next year. Each year is exciting with young ladies from around Tomball demonstrating why our town is a great place live and raise a family.\n\nCome join us as we support them all! Awards will be presented to 2023 Miss Tomball\, First Runner- Up\, Miss Congeniality\, Excellence In Leadership Award and Community Service Award\, all of whom will receive scholarships. \n\n\n\nONLINE PURCHASE BEGINS AT NOON ON OCTOBER 25TH\n\nTickets are $20 each\n\nYou can purchase your tickets online and choose your seats. \n\nALL SEATS ARE RESERVED SEATING. \n\n\n\nClick Here To Purchase Tickets\n\n\n\nLIMTED SPACE - DO NOT WAIT TO PURCHASE TICKETS!\n\n\n\n\n\nFor Miss Tomball Contestants:\n\nClick on links below to access forms:\n\nMISS TOMBALL 2023 COMMUNITY SERVICE AWARD FORM\n\nMISS TOMBALL 2023 EXCELLENCE IN LEADERSHIP AWARD FORM
X-ALT-DESC;FMTTYPE=text/html:<p>Miss Tomball 2023&nbsp\;presented by Aloha Beauty Lounge is a strong community tradition and we are happy to be&nbsp\; celebrating Tomball&#39\;s best! We will be crowning our Miss Tomball for next year. Each year is exciting with young ladies from around Tomball demonstrating why our town is a great place live and raise a family.<br />\nCome join us as we support them all! Awards will be presented to 2023 Miss Tomball\, First Runner- Up\, Miss Congeniality\, Excellence In Leadership Award and Community Service Award\, all of whom will receive scholarships.&nbsp\;<br />\n<br />\n<strong>ONLINE PURCHASE BEGINS AT <u>NOON </u>ON OCTOBER 25TH</strong><br />\nTickets are $20 each<br />\nYou can purchase your tickets online and choose your seats.&nbsp\;<br />\nALL SEATS ARE RESERVED SEATING.&nbsp\;<br />\n<br />\n<span style="font-size:18px\;"><a href="https://gtacc.booktix.com/"><strong>Click Here To Purchase Tickets</strong></a></span><br />\n<br />\n<span style="color:#FF0000\;"><strong>LIMTED SPACE - DO NOT WAIT TO PURCHASE TICKETS!</strong></span><br />\n<br />\n<br />\nFor Miss Tomball Contestants:<br />\nClick on links below to access forms:<br />\n<a href="https://chambermaster.blob.core.windows.net/userfiles/UserFiles/chambers/155/File/2023MissTomballCommunityServiceAward.pdf">MISS TOMBALL 2023 COMMUNITY SERVICE AWARD FORM</a><br />\n<a href="https://chambermaster.blob.core.windows.net/userfiles/UserFiles/chambers/155/File/2023MissTomballExcellenceInLeadershipAward.2.pdf">MISS TOMBALL 2023 EXCELLENCE IN LEADERSHIP AWARD FORM</a><br />\n&nbsp\;</p>\n
LOCATION:Tomball High School Auditorium 30330 Quinn Rd. Tomball\, TX 77375
UID:e.155.36450
SEQUENCE:3
DTSTAMP:20260420T232745Z
URL:https://business.tomballchamber.org/events/details/miss-tomball-2023-36450
END:VEVENT

END:VCALENDAR
