BEGIN:VCALENDAR
VERSION:2.0
PRODID:-//ChamberMaster//Event Calendar 2.0//EN
METHOD:PUBLISH
X-PUBLISHED-TTL:P3D
REFRESH-INTERVAL:P3D
CALSCALE:GREGORIAN
BEGIN:VEVENT
DTSTART:20200521T233000Z
DTEND:20200522T003000Z
X-MICROSOFT-CDO-ALLDAYEVENT:FALSE
SUMMARY:Memorial Day Wreath Laying Ceremony in Tomball
DESCRIPTION:The public is invited to attend a Memorial Day Wreath Laying Ceremony in Tomball at the Museum Center WWII Memorial at 510 N. Pine St.\, Tomball \, TX 77375. Bring a lawn chair for your comfort! To reduce the spread of COVID-19 please use 6 ft. social distancing\, CDC rules & current Executive Orders by Governor Greg Abbott. Speakers will be R. Jack Cagle\, Commissioner Harris County Precinct 4\, Sean Ellis\, Commander VFW Post 2427 and Tamela Jennings-Flynn\, Commander American Legion Post 127. There will be posting of the colors and a rendition of Taps by the American Legion Post 127 and VFW Post 2427 respectively. This is an excellent opportunity to visit the local WWII Memorial at the Tomball Museum Center. This event is put on by The Yellow Rose of Texas Republican Women. Pol. Adv. Pd. For by The Yellow Rose of Texas Republican Women PAC. Patricia Blair\, Treasurer\, P.O. Box 1323\, Tomball\, TX 77377. Corporate contributions are not permitted. Contributions are not tax deductible for federal tax purposes.
X-ALT-DESC;FMTTYPE=text/html:The public is invited to attend a Memorial Day Wreath Laying Ceremony in Tomball at the Museum Center WWII Memorial at 510 N. Pine St.\, Tomball \, TX 77375. Bring a lawn chair for your comfort! To reduce the spread of COVID-19 please use 6 ft. social distancing\, CDC rules &amp\; current Executive Orders by Governor Greg Abbott. Speakers will be R. Jack Cagle\, Commissioner Harris County Precinct 4\, Sean Ellis\, Commander VFW Post 2427 and Tamela Jennings-Flynn\, Commander American Legion Post 127. There will be posting of the colors and a rendition of Taps by the American Legion Post 127 and VFW Post 2427 respectively. This is an excellent opportunity to visit the local WWII Memorial at the Tomball Museum Center. This event is put on by The Yellow Rose of Texas Republican Women. Pol. Adv. Pd. For by The Yellow Rose of Texas Republican Women PAC. Patricia Blair\, Treasurer\, P.O. Box 1323\, Tomball\, TX 77377. Corporate contributions are not permitted. Contributions are not tax deductible for federal tax purposes.
LOCATION:Tomball Museum Center 510 N. Pine Tomball\, TX 77377
UID:e.155.32437
SEQUENCE:3
DTSTAMP:20260424T230041Z
URL:https://business.tomballchamber.org/events/details/memorial-day-wreath-laying-ceremony-in-tomball-32437
END:VEVENT

END:VCALENDAR
