BEGIN:VCALENDAR
VERSION:2.0
PRODID:-//ChamberMaster//Event Calendar 2.0//EN
METHOD:PUBLISH
X-PUBLISHED-TTL:P3D
REFRESH-INTERVAL:P3D
CALSCALE:GREGORIAN
BEGIN:VEVENT
DTSTART:20080524T150000Z
DTEND:20080526T210000Z
X-MICROSOFT-CDO-ALLDAYEVENT:FALSE
SUMMARY:Memorial Day Sale @ Aquascapes\, LLC - Imagine Pools & Spas North
DESCRIPTION:Memorial Day Sale- Customer Appreciation Day - May 24-26\nBBQ - Hot Dogs  - Bring your swimming suits - Enjoy the FUN!\nBring your home survey and we will design a pool for you while you are here!
X-ALT-DESC;FMTTYPE=text/html:Memorial Day Sale- Customer Appreciation Day - May 24-26\nBBQ - Hot Dogs  - Bring your swimming suits - Enjoy the FUN!\nBring your home survey and we will design a pool for you while you are here!
LOCATION:25310 FM 2978 Tomball\, Texas 77375
UID:e.155.2484
SEQUENCE:3
DTSTAMP:20260421T131135Z
URL:https://business.tomballchamber.org/events/details/memorial-day-sale-aquascapes-llc-imagine-pools-spas-north-05-24-2008-2484
END:VEVENT

END:VCALENDAR
