BEGIN:VCALENDAR
VERSION:2.0
PRODID:-//ChamberMaster//Event Calendar 2.0//EN
METHOD:PUBLISH
X-PUBLISHED-TTL:P3D
REFRESH-INTERVAL:P3D
CALSCALE:GREGORIAN
BEGIN:VEVENT
DTSTART:20220901T220000Z
DTEND:20220902T000000Z
X-MICROSOFT-CDO-ALLDAYEVENT:FALSE
SUMMARY:MEET THE AUTHOR AND BOOK SIGNING featuring Jon Armour\, author of Branded: A Novel Based on the True Story of The Most Notorious Cattle Rustler of our Time
DESCRIPTION:Meet Magnolia\, Texas\, author\, Jon Armour for a book signing event for his debut crime fiction novel\, Branded\, which is based on the true story detailing the outrageous events and exciting\, colorful and humorous antics of cowboy Bob Harold Leach\, aka "The Most Notorious Cattle Rustler of Our Time\," and the nicest guy you'd ever meet. Jon's website: https://www.jonarmour-author.com/
X-ALT-DESC;FMTTYPE=text/html:Meet Magnolia\, Texas\, author\, Jon Armour for a book signing event for his debut crime fiction novel\, Branded\, which is based on the true story detailing the outrageous events and exciting\, colorful and humorous antics of cowboy Bob Harold Leach\, aka &ldquo\;The Most Notorious Cattle Rustler of Our Time\,&rdquo\; and the nicest guy you&rsquo\;d ever meet. Jon&rsquo\;s website: https://www.jonarmour-author.com/
LOCATION:Pecos Grilling Company (in the Bull Room) ??28900 SH 249 Tomball\, Texas 77375
UID:e.155.36457
SEQUENCE:3
DTSTAMP:20260420T235035Z
URL:https://business.tomballchamber.org/events/details/meet-the-author-and-book-signing-featuring-jon-armour-author-of-branded-a-novel-based-on-the-true-story-of-the-most-notorious-cattle-rustler-of-our-time-36457
END:VEVENT

END:VCALENDAR
