BEGIN:VCALENDAR
VERSION:2.0
PRODID:-//ChamberMaster//Event Calendar 2.0//EN
METHOD:PUBLISH
X-PUBLISHED-TTL:P3D
REFRESH-INTERVAL:P3D
CALSCALE:GREGORIAN
BEGIN:VEVENT
DTSTART:20260427T150000Z
DTEND:20260427T160000Z
X-MICROSOFT-CDO-ALLDAYEVENT:FALSE
SUMMARY:Medicare 101
DESCRIPTION:Free educational Medicare event for those turning 65\, individuals helping aging parents\, or anyone planning ahead. This session will leave you empowered\, informed\, and confident in understanding your Medicare options and next steps.
X-ALT-DESC;FMTTYPE=text/html:<p><span style="font-size:14px"><span style="font-family:arial\,helvetica\,sans-serif">Free educational Medicare event for those turning 65\, individuals helping aging parents\, or anyone planning ahead. This session will leave you empowered\, informed\, and confident in understanding your Medicare options and next steps.</span></span></p>\n
LOCATION:Lonestar College Library -Tomball Community Library 30555 Tomball Parkway Rm 2024 Tomball\, TX 77375
UID:e.155.40738
SEQUENCE:3
DTSTAMP:20260424T080418Z
URL:https://business.tomballchamber.org/events/details/medicare-101-04-27-2026-40738
END:VEVENT

END:VCALENDAR
