BEGIN:VCALENDAR
VERSION:2.0
PRODID:-//ChamberMaster//Event Calendar 2.0//EN
METHOD:PUBLISH
X-PUBLISHED-TTL:P3D
REFRESH-INTERVAL:P3D
CALSCALE:GREGORIAN
BEGIN:VEVENT
DTSTART:20080911T180000Z
DTEND:20080911T233000Z
X-MICROSOFT-CDO-ALLDAYEVENT:FALSE
SUMMARY:Mayor's Challenge Community Blood Drive
DESCRIPTION:2nd Annual Blood Drive -Challenge including Tomball Police Dept.\, Public works\, Fire Dept. and Northwest Rural EMS\nPublic encouraged to donate and select one of the organizations.
X-ALT-DESC;FMTTYPE=text/html:2nd Annual Blood Drive -Challenge including Tomball Police Dept.\, Public works\, Fire Dept. and Northwest Rural EMS\nPublic encouraged to donate and select one of the organizations.  
LOCATION:Tomball Community Center 221 Market St.\, Tomball
UID:e.155.2581
SEQUENCE:3
DTSTAMP:20260421T083955Z
URL:https://business.tomballchamber.org/events/details/mayor-s-challenge-community-blood-drive-09-11-2008-2581
END:VEVENT

END:VCALENDAR
