BEGIN:VCALENDAR
VERSION:2.0
PRODID:-//ChamberMaster//Event Calendar 2.0//EN
METHOD:PUBLISH
X-PUBLISHED-TTL:P3D
REFRESH-INTERVAL:P3D
CALSCALE:GREGORIAN
BEGIN:VEVENT
DTSTART:20070713T170000Z
DTEND:20070713T180000Z
X-MICROSOFT-CDO-ALLDAYEVENT:FALSE
SUMMARY:Mauro Calderon Performance
DESCRIPTION:The Mexican tenor Mauro Calderon will delight us with a free concert of opera\, operetta\, Zarzuela\, and Neapolitan music.
X-ALT-DESC;FMTTYPE=text/html:The Mexican tenor Mauro Calderon will delight us with a free concert of opera\, operetta\, Zarzuela\, and Neapolitan music.  
LOCATION:Tomball College & Community Library\, 1st floor Meeting Room
UID:e.155.2261
SEQUENCE:3
DTSTAMP:20260422T060540Z
URL:https://business.tomballchamber.org/events/details/mauro-calderon-performance-07-13-2007-2261
END:VEVENT

END:VCALENDAR
