BEGIN:VCALENDAR
VERSION:2.0
PRODID:-//ChamberMaster//Event Calendar 2.0//EN
METHOD:PUBLISH
X-PUBLISHED-TTL:P3D
REFRESH-INTERVAL:P3D
CALSCALE:GREGORIAN
BEGIN:VEVENT
DTSTART:20190807T160000Z
DTEND:20190807T180000Z
X-MICROSOFT-CDO-ALLDAYEVENT:FALSE
SUMMARY:Marketing & Branding Strategies for today's Entrepreneur.
DESCRIPTION:ABWA/WEWEN August Luncheon Speaker: Lisa N. Alexander Marketing & Branding Strategies for today's Entrepreneur.
X-ALT-DESC;FMTTYPE=text/html:ABWA/WEWEN August Luncheon Speaker: Lisa N. Alexander Marketing &amp\; Branding Strategies for today&#39\;s Entrepreneur.
LOCATION:Holiday Inn & Suites\, Willowbrook 18530 Tomball Parkway Houston TX 77070
UID:e.155.31300
SEQUENCE:3
DTSTAMP:20260425T205518Z
URL:https://business.tomballchamber.org/events/details/marketing-branding-strategies-for-today-s-entrepreneur-31300
END:VEVENT

END:VCALENDAR
