BEGIN:VCALENDAR
VERSION:2.0
PRODID:-//ChamberMaster//Event Calendar 2.0//EN
METHOD:PUBLISH
X-PUBLISHED-TTL:P3D
REFRESH-INTERVAL:P3D
CALSCALE:GREGORIAN
BEGIN:VEVENT
DTSTART:20070323T233000Z
DTEND:20070323T050000Z
X-MICROSOFT-CDO-ALLDAYEVENT:FALSE
SUMMARY:Making A Diifference Banquet & Live Auction
DESCRIPTION:Benefiting: Baby & Me
X-ALT-DESC;FMTTYPE=text/html:Benefiting: Baby &amp\; Me
LOCATION:Wyndhaven Terrace\, 12716 Cutten Road\, Houston
UID:e.155.955
SEQUENCE:3
DTSTAMP:20260422T121735Z
URL:https://business.tomballchamber.org/events/details/making-a-diifference-banquet-live-auction-03-23-2007-955
END:VEVENT

END:VCALENDAR
