BEGIN:VCALENDAR
VERSION:2.0
PRODID:-//ChamberMaster//Event Calendar 2.0//EN
METHOD:PUBLISH
X-PUBLISHED-TTL:P3D
REFRESH-INTERVAL:P3D
CALSCALE:GREGORIAN
BEGIN:VEVENT
DTSTART:20070803T233000Z
DTEND:20070804T020000Z
X-MICROSOFT-CDO-ALLDAYEVENT:FALSE
SUMMARY:Main Street Music Mayhem
DESCRIPTION:High School Youth DEFY at Tomball Night. Main Street Music Mayham at TISD Parking Lot on Main Street. Live music\, giveaways and more! All part of the Tomball Night festivities!
X-ALT-DESC;FMTTYPE=text/html:High School Youth DEFY at Tomball Night. Main Street Music Mayham at TISD Parking Lot on Main Street. Live music\, giveaways and more! All part of the Tomball Night festivities!
LOCATION:TISD Parking Lot
UID:e.155.2290
SEQUENCE:3
DTSTAMP:20260422T045312Z
URL:https://business.tomballchamber.org/events/details/main-street-music-mayhem-08-03-2007-2290
END:VEVENT

END:VCALENDAR
