BEGIN:VCALENDAR
VERSION:2.0
PRODID:-//ChamberMaster//Event Calendar 2.0//EN
METHOD:PUBLISH
X-PUBLISHED-TTL:P3D
REFRESH-INTERVAL:P3D
CALSCALE:GREGORIAN
BEGIN:VEVENT
DTSTART:20080412T010000Z
DTEND:20080412T043000Z
X-MICROSOFT-CDO-ALLDAYEVENT:FALSE
SUMMARY:Main Street Crossing-Matt Brouwer Band
DESCRIPTION:A budding recording artist\, Brouwer has already landed hits on the Billboard CCM records chart (I Shall Believe)\; CCM CHR chart (Water)\; and the New Music Weekly Hot 100\, AC\, Indie AC\, and Top 40 charts (Surrender). His recent CD\, Unlearning (2005)\, follows his award-winning and critically acclaimed debut CD\, Imagerical (2001) \n\n\n\nhttp://www.myspace.com/mattbrouwermusic
X-ALT-DESC;FMTTYPE=text/html:A budding recording artist\, Brouwer has already landed hits on the Billboard CCM records chart (I Shall Believe)\; CCM CHR chart (Water)\; and the New Music Weekly Hot 100\, AC\, Indie AC\, and Top 40 charts (Surrender). His recent CD\, Unlearning (2005)\, follows his award-winning and critically acclaimed debut CD\, Imagerical (2001) \n\n\n\nhttp://www.myspace.com/mattbrouwermusic 
LOCATION:Main Street Crossing 111 W. Main Tomball
UID:e.155.2472
SEQUENCE:3
DTSTAMP:20260421T150028Z
URL:https://business.tomballchamber.org/events/details/main-street-crossing-matt-brouwer-band-04-11-2008-2472
END:VEVENT

END:VCALENDAR
