BEGIN:VCALENDAR
VERSION:2.0
PRODID:-//ChamberMaster//Event Calendar 2.0//EN
METHOD:PUBLISH
X-PUBLISHED-TTL:P3D
REFRESH-INTERVAL:P3D
CALSCALE:GREGORIAN
BEGIN:VEVENT
DTSTART:20080517T010000Z
DTEND:20080517T043000Z
X-MICROSOFT-CDO-ALLDAYEVENT:FALSE
SUMMARY:Main Street Crossing-Live Music
DESCRIPTION:Check website for who is playing
X-ALT-DESC;FMTTYPE=text/html:Check website for who is playing
LOCATION:111 W. Main St Tomball\, Texas 77375
UID:e.155.2508
SEQUENCE:3
DTSTAMP:20260421T130614Z
URL:https://business.tomballchamber.org/events/details/main-street-crossing-live-music-05-16-2008-2508
END:VEVENT

END:VCALENDAR
