BEGIN:VCALENDAR
VERSION:2.0
PRODID:-//ChamberMaster//Event Calendar 2.0//EN
METHOD:PUBLISH
X-PUBLISHED-TTL:P3D
REFRESH-INTERVAL:P3D
CALSCALE:GREGORIAN
BEGIN:VEVENT
DTSTART:20080510T010000Z
DTEND:20080510T043000Z
X-MICROSOFT-CDO-ALLDAYEVENT:FALSE
SUMMARY:Main Street Crossing- Live Music
DESCRIPTION:Live Music on Friday nights. Please check website for information on who is playing.
X-ALT-DESC;FMTTYPE=text/html:Live Music on Friday nights. Please check website for information on who is playing.
LOCATION:111 West Main St Tomball\, Texas 77375
UID:e.155.2507
SEQUENCE:3
DTSTAMP:20260421T150257Z
URL:https://business.tomballchamber.org/events/details/main-street-crossing-live-music-05-09-2008-2507
END:VEVENT

END:VCALENDAR
