BEGIN:VCALENDAR
VERSION:2.0
PRODID:-//ChamberMaster//Event Calendar 2.0//EN
METHOD:PUBLISH
X-PUBLISHED-TTL:P3D
REFRESH-INTERVAL:P3D
CALSCALE:GREGORIAN
BEGIN:VEVENT
DTSTART:20070505T130000Z
DTEND:20070505T190000Z
X-MICROSOFT-CDO-ALLDAYEVENT:FALSE
SUMMARY:Magnolia United Methodist Church Community Yard Sale
DESCRIPTION:Annual church yard sale to help fund the missions of the church.
X-ALT-DESC;FMTTYPE=text/html:Annual church yard sale to help fund the missions of the church.
LOCATION:419 Commerce Street Magnolia\, TX 77355
UID:e.155.1937
SEQUENCE:3
DTSTAMP:20260422T091941Z
URL:https://business.tomballchamber.org/events/details/magnolia-united-methodist-church-community-yard-sale-05-05-2007-1937
END:VEVENT

END:VCALENDAR
