BEGIN:VCALENDAR
VERSION:2.0
PRODID:-//ChamberMaster//Event Calendar 2.0//EN
METHOD:PUBLISH
X-PUBLISHED-TTL:P3D
REFRESH-INTERVAL:P3D
CALSCALE:GREGORIAN
BEGIN:VEVENT
DTSTART:20080422T003000Z
DTEND:20080422T003000Z
X-MICROSOFT-CDO-ALLDAYEVENT:FALSE
SUMMARY:Lux Aeterna
DESCRIPTION:The program centers around the sacred music of American composer Morten Lauridsen.  The Chorale will be accompanied by members of the Houston Symphony.
X-ALT-DESC;FMTTYPE=text/html:The program centers around the sacred music of American composer Morten Lauridsen.  The Chorale will be accompanied by members of the Houston Symphony.  
LOCATION:The Centrum\, Cypress Creek Christian Church\, 6823 Cypresswood Drive\, Spring\, TX
UID:e.155.2309
SEQUENCE:3
DTSTAMP:20260421T145501Z
URL:https://business.tomballchamber.org/events/details/lux-aeterna-04-21-2008-2309
END:VEVENT

END:VCALENDAR
