BEGIN:VCALENDAR
VERSION:2.0
PRODID:-//ChamberMaster//Event Calendar 2.0//EN
METHOD:PUBLISH
X-PUBLISHED-TTL:P3D
REFRESH-INTERVAL:P3D
CALSCALE:GREGORIAN
BEGIN:VEVENT
DTSTART:20080619T130000Z
DTEND:20080620T020000Z
X-MICROSOFT-CDO-ALLDAYEVENT:FALSE
SUMMARY:Lowe's of W. Spring Grand Opening - Benefiting Habitat for Humanity
DESCRIPTION:Lowe's will be opening a new store @ 20902 Kuykendahl Rd. Spring TX  77379.  During Lowe's business hours on June 19 all gift card sales will be matched up to $5\,000 with a gift card to Habitat for Humanity Northwest Harris County.  All proceeds from this event will be used directly on the Habitat Women Build project (a home build and fundraised for by area Women for a single mother in need of affordable housing)
X-ALT-DESC;FMTTYPE=text/html:Lowe's will be opening a new store @ 20902 Kuykendahl Rd. Spring TX  77379.  During Lowe's business hours on June 19 all gift card sales will be matched up to $5\,000 with a gift card to Habitat for Humanity Northwest Harris County.  All proceeds from this event will be used directly on the Habitat Women Build project (a home build and fundraised for by area Women for a single mother in need of affordable housing)  
LOCATION:Lowe's of W. Spring 20902 Kuykendahl Rd. Spring TX 77379
UID:e.155.2533
SEQUENCE:3
DTSTAMP:20260421T131012Z
URL:https://business.tomballchamber.org/events/details/lowe-s-of-w-spring-grand-opening-benefiting-habitat-for-humanity-06-19-2008-2533
END:VEVENT

END:VCALENDAR
