BEGIN:VCALENDAR
VERSION:2.0
PRODID:-//ChamberMaster//Event Calendar 2.0//EN
METHOD:PUBLISH
X-PUBLISHED-TTL:P3D
REFRESH-INTERVAL:P3D
CALSCALE:GREGORIAN
BEGIN:VEVENT
DTSTART:20070818T160000Z
DTEND:20070818T220000Z
X-MICROSOFT-CDO-ALLDAYEVENT:FALSE
SUMMARY:Living Stones Church 5th Annual Golf Tournament
DESCRIPTION:Benefiting the Christian College Scholarship Program
X-ALT-DESC;FMTTYPE=text/html:<div>Benefiting the Christian College Scholarship Program</div>
LOCATION:Legendary Oaks Golf Club
UID:e.155.2295
SEQUENCE:3
DTSTAMP:20260422T061540Z
URL:https://business.tomballchamber.org/events/details/living-stones-church-5th-annual-golf-tournament-08-18-2007-2295
END:VEVENT

END:VCALENDAR
