BEGIN:VCALENDAR
VERSION:2.0
PRODID:-//ChamberMaster//Event Calendar 2.0//EN
METHOD:PUBLISH
X-PUBLISHED-TTL:P3D
REFRESH-INTERVAL:P3D
CALSCALE:GREGORIAN
BEGIN:VEVENT
DTSTART:20080628T010000Z
DTEND:20080628T043000Z
X-MICROSOFT-CDO-ALLDAYEVENT:FALSE
SUMMARY:Live Music at Main Street Crossing
DESCRIPTION:Kyle Hutton\, John Evans and Austin Collins songwriter show.
X-ALT-DESC;FMTTYPE=text/html:Kyle Hutton\, John Evans and Austin Collins songwriter show.
LOCATION:111 W. Main St Tomball\, Texas 77375
UID:e.155.2535
SEQUENCE:3
DTSTAMP:20260421T112227Z
URL:https://business.tomballchamber.org/events/details/live-music-at-main-street-crossing-06-27-2008-2535
END:VEVENT

END:VCALENDAR
