BEGIN:VCALENDAR
VERSION:2.0
PRODID:-//ChamberMaster//Event Calendar 2.0//EN
METHOD:PUBLISH
X-PUBLISHED-TTL:P3D
REFRESH-INTERVAL:P3D
CALSCALE:GREGORIAN
BEGIN:VEVENT
DTSTART:20080607T010000Z
DTEND:20080607T043000Z
X-MICROSOFT-CDO-ALLDAYEVENT:FALSE
SUMMARY:Live Music at Main Street Crossing
DESCRIPTION:Hamilton Loomis will be at Main Street Crossing this Friday night. For more information about this musician go to:  www.hamiltonloomis.com
X-ALT-DESC;FMTTYPE=text/html:Hamilton Loomis will be at Main Street Crossing this Friday night. For more information about this musician go to:  www.hamiltonloomis.com  
LOCATION:111 W. Main St Tomball\, Texas 77375
UID:e.155.2526
SEQUENCE:3
DTSTAMP:20260421T130753Z
URL:https://business.tomballchamber.org/events/details/live-music-at-main-street-crossing-06-06-2008-2526
END:VEVENT

END:VCALENDAR
