BEGIN:VCALENDAR
VERSION:2.0
PRODID:-//ChamberMaster//Event Calendar 2.0//EN
METHOD:PUBLISH
X-PUBLISHED-TTL:P3D
REFRESH-INTERVAL:P3D
CALSCALE:GREGORIAN
BEGIN:VEVENT
DTSTART:20211005T150000Z
DTEND:20211005T170000Z
X-MICROSOFT-CDO-ALLDAYEVENT:FALSE
SUMMARY:Listening Post
DESCRIPTION:Do you need help with a Federal Agency?\n\n\n\nThe office of Congressman Michael McCaul will be hosting mobile offices on the eastern side of the 10th District for those who may have encountered an issue with a federal agency. If you cannot get an answer from a federal agency in a timely fashion\, or if you feel you have been treated unfairly\, Congressman McCaul's office may be able to resolve a problem or get you the information you need. While a favorable outcome cannot be guaranteed\, they will do their best to help you receive a fair and timely response to your problem.
X-ALT-DESC;FMTTYPE=text/html:Do you need help with a Federal Agency?<br />\n<br />\nThe office of Congressman Michael McCaul will be hosting mobile offices on the eastern side of the 10th District for those who may have encountered an issue with a federal agency. If you cannot get an answer from a federal agency in a timely fashion\, or if you feel you have been treated unfairly\, Congressman McCaul&#39\;s office may be able to resolve a problem or get you the information you need. While a favorable outcome cannot be guaranteed\, they will do their best to help you receive a fair and timely response to your problem.&nbsp\;
LOCATION:Greater Tomball Area Chamber of Commerce 29201 Quinn Road\, Ste. B Tomball\, TX 77375
UID:e.155.34874
SEQUENCE:3
DTSTAMP:20260422T185600Z
URL:https://business.tomballchamber.org/events/details/listening-post-34874
END:VEVENT

END:VCALENDAR
