BEGIN:VCALENDAR
VERSION:2.0
PRODID:-//ChamberMaster//Event Calendar 2.0//EN
METHOD:PUBLISH
X-PUBLISHED-TTL:P3D
REFRESH-INTERVAL:P3D
CALSCALE:GREGORIAN
BEGIN:VEVENT
DTSTART;VALUE=DATE:20070415
DTEND;VALUE=DATE:20070416
TRANSP:TRANSPARENT
X-MICROSOFT-CDO-ALLDAYEVENT:TRUE
SUMMARY:Lions' Club Car Show
DESCRIPTION:Lion's Club Car Show
X-ALT-DESC;FMTTYPE=text/html:Lion's Club Car Show
LOCATION:Tomball College 30555 Tomball Parkway
UID:e.155.1383
SEQUENCE:3
DTSTAMP:20260422T104934Z
URL:https://business.tomballchamber.org/events/details/lions-club-car-show-04-15-2007-1383
END:VEVENT

END:VCALENDAR
