BEGIN:VCALENDAR
VERSION:2.0
PRODID:-//ChamberMaster//Event Calendar 2.0//EN
METHOD:PUBLISH
X-PUBLISHED-TTL:P3D
REFRESH-INTERVAL:P3D
CALSCALE:GREGORIAN
BEGIN:VEVENT
DTSTART;VALUE=DATE:20071024
DTEND;VALUE=DATE:20071101
TRANSP:TRANSPARENT
X-MICROSOFT-CDO-ALLDAYEVENT:TRUE
SUMMARY:LifeTime Fitness - Willowbrook Free Day
DESCRIPTION:Free One Day Trail Pass - to see for yourself what makes Life Time Fitness so different.Enjoy a complimentary tour plus one day of fun and fitness.Three Easy Steps1. Contact me to get your pass authorized2. Complete your tour and have fun !3. Tomball Chamber members get preferred rates when you join! Free lockers\, towels.Salon Spa and CafeMonth to Month Memberships24/7 accessGreat Child CenterHot Deal Expires 10/31/2007
X-ALT-DESC;FMTTYPE=text/html:<div>Free One Day Trail Pass - to see for yourself what makes Life Time Fitness so different.</div><div>Enjoy a complimentary tour plus one day of fun and fitness.</div><div>Three Easy Steps</div><div>1. Contact me to get your pass authorized</div><div>2. Complete your tour and have fun !</div><div>3. Tomball Chamber members get preferred rates when you join!</div><div>&nbsp\;</div><div>Free lockers\, towels.</div><div>Salon Spa and Cafe</div><div>Month to Month Memberships</div><div>24/7 access</div><div>Great Child Center</div><div>Hot Deal Expires 10/31/2007</div>
LOCATION:
UID:e.155.2353
SEQUENCE:3
DTSTAMP:20260422T011855Z
URL:https://business.tomballchamber.org/events/details/lifetime-fitness-willowbrook-free-day-10-24-2007-2353
END:VEVENT

END:VCALENDAR
