BEGIN:VCALENDAR
VERSION:2.0
PRODID:-//ChamberMaster//Event Calendar 2.0//EN
METHOD:PUBLISH
X-PUBLISHED-TTL:P3D
REFRESH-INTERVAL:P3D
CALSCALE:GREGORIAN
BEGIN:VEVENT
DTSTART;VALUE=DATE:20071012
DTEND;VALUE=DATE:20071016
TRANSP:TRANSPARENT
X-MICROSOFT-CDO-ALLDAYEVENT:TRUE
SUMMARY:Life Time Fitness- Willowbrook Open House
DESCRIPTION:Explore all that Life Time Fitness offers. Enjoy free access all weekend
X-ALT-DESC;FMTTYPE=text/html:Explore all that Life Time Fitness offers. Enjoy free access all weekend
LOCATION:7717 Willow Chase Blvd Houston\, Tx 77070 Right down the street from Willowbrook Methodist Hospital just north of 1960. Make a right onto Willow Chase Blvd and take it down to the stop sign. Right after the stop sign on the right hand side
UID:e.155.2347
SEQUENCE:3
DTSTAMP:20260422T011640Z
URL:https://business.tomballchamber.org/events/details/life-time-fitness-willowbrook-open-house-10-12-2007-2347
END:VEVENT

END:VCALENDAR
