BEGIN:VCALENDAR
VERSION:2.0
PRODID:-//ChamberMaster//Event Calendar 2.0//EN
METHOD:PUBLISH
X-PUBLISHED-TTL:P3D
REFRESH-INTERVAL:P3D
CALSCALE:GREGORIAN
BEGIN:VEVENT
DTSTART;VALUE=DATE:20071013
DTEND;VALUE=DATE:20071014
TRANSP:TRANSPARENT
X-MICROSOFT-CDO-ALLDAYEVENT:TRUE
SUMMARY:Life Time Fitness Charity Challenge
DESCRIPTION:Come out and Support The Life Time Fitness Charity Challenge. A great workout to support a great cause. Participate in special fitness & training events throughout the day!\n\nDonations Accepted Through October 31\,2007.\n\nAll Proceeds Go To Life Time Fitness Foundation
X-ALT-DESC;FMTTYPE=text/html:Come out and Support The Life Time Fitness Charity Challenge. A great workout to support a great cause. Participate in special fitness & training events throughout the day!\n\nDonations Accepted Through October 31\,2007.\n\nAll Proceeds Go To Life Time Fitness Foundation
LOCATION:Life Time Fitness- Willowbrook 7717 Willow Chase Blvd Houston\, Tx 77070 Right down the street from Willowbrook Methodist Hospital just north of 1960. Make a right onto Willow Chase Blvd and take it down to the stop sign. Right after the stop sign on the right hand side
UID:e.155.2348
SEQUENCE:3
DTSTAMP:20260422T011803Z
URL:https://business.tomballchamber.org/events/details/life-time-fitness-charity-challenge-10-13-2007-2348
END:VEVENT

END:VCALENDAR
