BEGIN:VCALENDAR
VERSION:2.0
PRODID:-//ChamberMaster//Event Calendar 2.0//EN
METHOD:PUBLISH
X-PUBLISHED-TTL:P3D
REFRESH-INTERVAL:P3D
CALSCALE:GREGORIAN
BEGIN:VEVENT
DTSTART:20070606T190000Z
DTEND:20070606T210000Z
X-MICROSOFT-CDO-ALLDAYEVENT:FALSE
SUMMARY:Library Idol for Teens
DESCRIPTION:Come play Library Idol at the Tomball College & Community Library!  A monthly program\, the overall champion will receive Karaoke Revolution Party for the PS2 and will perform at the Summer Reading Finale.
X-ALT-DESC;FMTTYPE=text/html:Come play Library Idol at the Tomball College & Community Library!  A monthly program\, the overall champion will receive Karaoke Revolution Party for the PS2 and will perform at the Summer Reading Finale.
LOCATION:Tomball College & Community Library
UID:e.155.2247
SEQUENCE:3
DTSTAMP:20260422T074047Z
URL:https://business.tomballchamber.org/events/details/library-idol-for-teens-06-06-2007-2247
END:VEVENT

END:VCALENDAR
