BEGIN:VCALENDAR
VERSION:2.0
PRODID:-//ChamberMaster//Event Calendar 2.0//EN
METHOD:PUBLISH
X-PUBLISHED-TTL:P3D
REFRESH-INTERVAL:P3D
CALSCALE:GREGORIAN
BEGIN:VEVENT
DTSTART:20080629T230000Z
DTEND:20080630T010000Z
X-MICROSOFT-CDO-ALLDAYEVENT:FALSE
SUMMARY:Let Freedom Ring Concert
DESCRIPTION:Tomball Freedom FestivalThe Music Ministry of First Baptist Church TomballPresents "Let Freedom Ring"A musical salute to our men and women in the armed forces
X-ALT-DESC;FMTTYPE=text/html:<div>Tomball Freedom Festival</div><div>The Music Ministry of First Baptist Church Tomball</div><div>Presents &quot\;Let Freedom Ring&quot\;</div><div>A musical salute to our men and women in the armed forces</div>
LOCATION:First Baptist Church Tomball401 Oxford StreetTomball\, Texas281.351.4997
UID:e.155.2513
SEQUENCE:3
DTSTAMP:20260421T130245Z
URL:https://business.tomballchamber.org/events/details/let-freedom-ring-concert-06-29-2008-2513
END:VEVENT

END:VCALENDAR
