BEGIN:VCALENDAR
VERSION:2.0
PRODID:-//ChamberMaster//Event Calendar 2.0//EN
METHOD:PUBLISH
X-PUBLISHED-TTL:P3D
REFRESH-INTERVAL:P3D
CALSCALE:GREGORIAN
BEGIN:VEVENT
DTSTART:20230121T170000Z
DTEND:20230121T190000Z
X-MICROSOFT-CDO-ALLDAYEVENT:FALSE
SUMMARY:Layering with Encaustic - Art Workshop
DESCRIPTION:Learn to paint with wax with Houston artist Shauna Martin! In this specialty workshop\, you will learn all about painting with wax and fusing with heat! We'll also be incising and tinting the surface with pigment sticks. ALL supplies included. We have plenty of supplies here but you are welcome to bring more\; your favorite tissue paper (plain or pattern)\; favorite writings\, sayings\, poems\, magazine cutouts\, hand-made papers\, fabric\, etc. This 2 hour workshop is designed for artists of all levels\, even those new to encaustic painting. You will leave this workshop with your very own 8"x10" encaustic work of art on wood!
X-ALT-DESC;FMTTYPE=text/html:Learn to paint with wax with Houston artist Shauna Martin! In this specialty workshop\, you will learn all about painting with wax and fusing with heat! We&rsquo\;ll also be incising and tinting the surface with pigment sticks. ALL supplies included. We have plenty of supplies here but you are welcome to bring more\; your favorite tissue paper (plain or pattern)\; favorite writings\, sayings\, poems\, magazine cutouts\, hand-made papers\, fabric\, etc. This 2 hour workshop is designed for artists of all levels\, even those new to encaustic painting. You will leave this workshop with your very own 8&rdquo\;x10&rdquo\; encaustic work of art on wood!
LOCATION:Hampton Inn & Suites in Tomball - 14100 Medical Complex Drive\, Tomball\, TX 77377
UID:e.155.37392
SEQUENCE:3
DTSTAMP:20260420T132055Z
URL:https://business.tomballchamber.org/events/details/layering-with-encaustic-art-workshop-37392
END:VEVENT

END:VCALENDAR
