BEGIN:VCALENDAR
VERSION:2.0
PRODID:-//ChamberMaster//Event Calendar 2.0//EN
METHOD:PUBLISH
X-PUBLISHED-TTL:P3D
REFRESH-INTERVAL:P3D
CALSCALE:GREGORIAN
BEGIN:VEVENT
DTSTART:20080301T153000Z
DTEND:20080301T163000Z
X-MICROSOFT-CDO-ALLDAYEVENT:FALSE
SUMMARY:Lap-Band Weight Loss Surgery Seminar
DESCRIPTION:Register to attend one of our free informational seminars to learn more about bariatric (weight loss) surgery.  We understand that weight loss surgery is a very important lifestyle change for you and your family\, and we invite you to bring along a family member or guest.  Get answers to your questions about this life-changing surgery by making your reservation today.  Please refer to the seminar schedule on our website for other upcoming dates and locations.
X-ALT-DESC;FMTTYPE=text/html:Register to attend one of our free informational seminars to learn more about bariatric (weight loss) surgery.  We understand that weight loss surgery is a very important lifestyle change for you and your family\, and we invite you to bring along a family member or guest.  Get answers to your questions about this life-changing surgery by making your reservation today.  Please refer to the seminar schedule on our website for other upcoming dates and locations. \n\n
LOCATION:Tomball Regional Hospital 1st Floor Conference Room
UID:e.155.2418
SEQUENCE:3
DTSTAMP:20260421T170248Z
URL:https://business.tomballchamber.org/events/details/lap-band-weight-loss-surgery-seminar-03-01-2008-2418
END:VEVENT

END:VCALENDAR
