BEGIN:VCALENDAR
VERSION:2.0
PRODID:-//ChamberMaster//Event Calendar 2.0//EN
METHOD:PUBLISH
X-PUBLISHED-TTL:P3D
REFRESH-INTERVAL:P3D
CALSCALE:GREGORIAN
BEGIN:VEVENT
DTSTART:20080409T230000Z
DTEND:20080410T000000Z
X-MICROSOFT-CDO-ALLDAYEVENT:FALSE
SUMMARY:La TranQuila Ranch - Ribbon Cutting
DESCRIPTION:Ribbon Cutting CeremonyLa Tranquila Ranch( Banquet Facility)
X-ALT-DESC;FMTTYPE=text/html:<div>Ribbon Cutting Ceremony</div><div>La Tranquila Ranch</div><div>( Banquet Facility)</div>
LOCATION:9418 FM 2920Tomball\, Texas 77375281.576.8882
UID:e.155.2447
SEQUENCE:3
DTSTAMP:20260421T145757Z
URL:https://business.tomballchamber.org/events/details/la-tranquila-ranch-ribbon-cutting-04-09-2008-2447
END:VEVENT

END:VCALENDAR
