BEGIN:VCALENDAR
VERSION:2.0
PRODID:-//ChamberMaster//Event Calendar 2.0//EN
METHOD:PUBLISH
X-PUBLISHED-TTL:P3D
REFRESH-INTERVAL:P3D
CALSCALE:GREGORIAN
BEGIN:VEVENT
DTSTART:20230520T160000Z
DTEND:20230520T210000Z
X-MICROSOFT-CDO-ALLDAYEVENT:FALSE
SUMMARY:Korhville Community Festival
DESCRIPTION:Don't be square just be there come one come on to the best event in town where? 10555 Spring Cypress Rd.\, Houston\, TX 77070 Korhville community festival. Fun for the kids\, prizes\, games\, raffles food trucks\, vendors of all kinds biggest attraction\, car show prizes given to best overall ride that's been pimped out\, are old school\, classic . Plenty of music\, dancing\, live entertainment\, DJ and much more. The event is free. Donations are welcome.
X-ALT-DESC;FMTTYPE=text/html:Don&#39\;t be square just be there come one come on to the best event in town where? 10555 Spring Cypress Rd.\, Houston\, TX 77070 Korhville community festival. Fun for the kids\, prizes\, games\, raffles food trucks\, vendors of all kinds biggest attraction\, car show prizes given to best overall ride that&rsquo\;s been pimped out\, are old school\, classic . Plenty of music\, dancing\, live entertainment\, DJ and much more. The event is free. Donations are welcome.
LOCATION:10555 Spring Cypress Rd. Houston\, TX 77070 Windwood Presbyterian in Church parking lot
UID:e.155.37956
SEQUENCE:3
DTSTAMP:20260420T062402Z
URL:https://business.tomballchamber.org/events/details/korhville-community-festival-37956
END:VEVENT

END:VCALENDAR
