BEGIN:VCALENDAR
VERSION:2.0
PRODID:-//ChamberMaster//Event Calendar 2.0//EN
METHOD:PUBLISH
X-PUBLISHED-TTL:P3D
REFRESH-INTERVAL:P3D
CALSCALE:GREGORIAN
BEGIN:VEVENT
DTSTART:20070508T213000Z
DTEND:20070508T223000Z
X-MICROSOFT-CDO-ALLDAYEVENT:FALSE
SUMMARY:Korean Martial Arts
DESCRIPTION:Discover the uniqueness of Kuk Sool Won\, a traditional and ancient martial art from Korea\, with this demonstration and presentation. Learn many different styles that set it apart from other traditional martial arts in this celebration of Asian Pacific Heritage Month at the Tomball College & Community Library.
X-ALT-DESC;FMTTYPE=text/html:Discover the uniqueness of Kuk Sool Won\, a traditional and ancient martial art from Korea\, with this demonstration and presentation. Learn many different styles that set it apart from other traditional martial arts in this celebration of Asian Pacific Heritage Month at the Tomball College & Community Library. 
LOCATION:First floor Meeting Room of the Tomball College & Community Library\, 30555 Tomball Pkwy.
UID:e.155.2212
SEQUENCE:3
DTSTAMP:20260422T104556Z
URL:https://business.tomballchamber.org/events/details/korean-martial-arts-05-08-2007-2212
END:VEVENT

END:VCALENDAR
