BEGIN:VCALENDAR
VERSION:2.0
PRODID:-//ChamberMaster//Event Calendar 2.0//EN
METHOD:PUBLISH
X-PUBLISHED-TTL:P3D
REFRESH-INTERVAL:P3D
CALSCALE:GREGORIAN
BEGIN:VEVENT
DTSTART:20070731T133000Z
DTEND:20070731T163000Z
X-MICROSOFT-CDO-ALLDAYEVENT:FALSE
SUMMARY:Koffee & Kookies @ Kwik Kopy
DESCRIPTION:Come enjoy a delicious cup of gourmet coffee(12 different selections) supplied by \nESPRESSO-ETC! and a cookie. See Kwik Kopy's new location and meet their staff.\nWe look forward to seeing you all !!!!
X-ALT-DESC;FMTTYPE=text/html:Come enjoy a delicious cup of gourmet coffee(12 different selections) supplied by \nESPRESSO-ETC! and a cookie. See Kwik Kopy's new location and meet their staff.\nWe look forward to seeing you all !!!!
LOCATION:1215-5 W. Main Street\, Tomball\,TX 77375
UID:e.155.2285
SEQUENCE:3
DTSTAMP:20260422T061153Z
URL:https://business.tomballchamber.org/events/details/koffee-kookies-kwik-kopy-07-31-2007-2285
END:VEVENT

END:VCALENDAR
