BEGIN:VCALENDAR
VERSION:2.0
PRODID:-//ChamberMaster//Event Calendar 2.0//EN
METHOD:PUBLISH
X-PUBLISHED-TTL:P3D
REFRESH-INTERVAL:P3D
CALSCALE:GREGORIAN
BEGIN:VEVENT
DTSTART:20221103T150000Z
DTEND:20221104T003000Z
X-MICROSOFT-CDO-ALLDAYEVENT:FALSE
SUMMARY:Jimmie Vaughan & The Tilt-a-Whirl Band for Operation Mutual Cares
DESCRIPTION:10K USO Care Packages will be assembled\, all Supporting the USO & the Texas VFW District 4 10am-4pm: - Teams will assemble 10K Care Packages for our deployed troops. 4:30-7:30pm: - Opening Band- Tin Cadillac - Headliner- Jimmie Vaughan & The Tilt-a-Whirl Band LIVE on the Tomball VFW Fairground Outdoor Stage
X-ALT-DESC;FMTTYPE=text/html:10K USO Care Packages will be assembled\, all Supporting the USO &amp\; the Texas VFW District 4 10am-4pm: - Teams will assemble 10K Care Packages for our deployed troops. 4:30-7:30pm: - Opening Band- Tin Cadillac - Headliner- Jimmie Vaughan &amp\; The Tilt-a-Whirl Band LIVE on the Tomball VFW Fairground Outdoor Stage
LOCATION:14408 Alice Rd\, Tomball\, TX 77375
UID:e.155.37351
SEQUENCE:3
DTSTAMP:20260420T164938Z
URL:https://business.tomballchamber.org/events/details/jimmie-vaughan-the-tilt-a-whirl-band-for-operation-mutual-cares-37351
END:VEVENT

END:VCALENDAR
