BEGIN:VCALENDAR
VERSION:2.0
PRODID:-//ChamberMaster//Event Calendar 2.0//EN
METHOD:PUBLISH
X-PUBLISHED-TTL:P3D
REFRESH-INTERVAL:P3D
CALSCALE:GREGORIAN
BEGIN:VEVENT
DTSTART:20221110T183000Z
DTEND:20221110T210000Z
X-MICROSOFT-CDO-ALLDAYEVENT:FALSE
SUMMARY:Intro To Social Media For Business - Realtor Focus
DESCRIPTION:Not sure where to begin with social media marketing for your business? Is your head spinning trying to keep up with the changes in the social media landscape and you're not sure where to start?\n\n \n\nJoin us for a Digital Marketing Bootcamp: Intro to Social Media for Business. Taught by local digital marketing expert and Owner of Modern Marketing & Media\, Amanda Trickey.\n\n \n\nThis class will be geared more towards Realtors and you will learn what social networks your business should be on\, how to optimize your social profiles\, best practices for creating engaging content\, how to create a content calendar and how to utilize ads to reach your business goals.\n\n \n\nRegister here: https://www.eventbrite.com/e/digital-marketing-bootcamp-intro-to-social-media-for-business-tickets-449499554267?fbclid=IwAR14yCbOI2AoQdLha4-gOGVPaGL35mctKpHGP8OD_DjWZIgEm159aYSGqQw\n\n \n\n12:30-12:55M - Registration\, Lunch and Networking\n\n1PM - CE Class Begins\n\n3pm   Q &? A\; Class ends
X-ALT-DESC;FMTTYPE=text/html:<div>Not sure where to begin with social media marketing for your business? Is your head spinning trying to keep up with the changes in the social media landscape and you&rsquo\;re not sure where to start?<br />\n&nbsp\;</div>\n\n<div>Join us for a Digital Marketing Bootcamp: Intro to Social Media for Business. Taught by local digital marketing expert and Owner of Modern Marketing &amp\; Media\, Amanda Trickey.<br />\n&nbsp\;</div>\n\n<div>This class will be geared more towards Realtors and you will learn what social networks your business should be on\, how to optimize your social profiles\, best practices for creating engaging content\, how to create a content calendar and how to utilize ads to reach your business goals.<br />\n&nbsp\;</div>\n\n<div>Register here:&nbsp\;<a href="https://www.eventbrite.com/e/digital-marketing-bootcamp-intro-to-social-media-for-business-tickets-449499554267?fbclid=IwAR14yCbOI2AoQdLha4-gOGVPaGL35mctKpHGP8OD_DjWZIgEm159aYSGqQw">https://www.eventbrite.com/e/digital-marketing-bootcamp-intro-to-social-media-for-business-tickets-449499554267?fbclid=IwAR14yCbOI2AoQdLha4-gOGVPaGL35mctKpHGP8OD_DjWZIgEm159aYSGqQw</a><br />\n&nbsp\;</div>\n\n<div>12:30-12:55M - Registration\, Lunch and Networking<br />\n1PM - CE Class Begins<br />\n3pm &ndash\; Q &amp\;? A\; Class ends</div>\n
LOCATION:The Texas Real Estate Investment Center 5295 Hollister St\, Houston\, TX 77040
UID:e.155.37355
SEQUENCE:3
DTSTAMP:20260420T165122Z
URL:https://business.tomballchamber.org/events/details/intro-to-social-media-for-business-realtor-focus-37355
END:VEVENT

END:VCALENDAR
