BEGIN:VCALENDAR
VERSION:2.0
PRODID:-//ChamberMaster//Event Calendar 2.0//EN
METHOD:PUBLISH
X-PUBLISHED-TTL:P3D
REFRESH-INTERVAL:P3D
CALSCALE:GREGORIAN
BEGIN:VEVENT
DTSTART:20080430T160000Z
DTEND:20080430T180000Z
X-MICROSOFT-CDO-ALLDAYEVENT:FALSE
SUMMARY:International Food bar - Featuring ''Italy''
DESCRIPTION:Complimentary Luncheon\nRSVP (281) 970-7979
X-ALT-DESC;FMTTYPE=text/html:Complimentary Luncheon\nRSVP (281) 970-7979
LOCATION:Village on the Park 12102 Steepleway Blvd Houston\, TX 77065
UID:e.155.2453
SEQUENCE:3
DTSTAMP:20260421T164643Z
URL:https://business.tomballchamber.org/events/details/international-food-bar-featuring-italy-04-30-2008-2453
END:VEVENT

END:VCALENDAR
