BEGIN:VCALENDAR
VERSION:2.0
PRODID:-//ChamberMaster//Event Calendar 2.0//EN
METHOD:PUBLISH
X-PUBLISHED-TTL:P3D
REFRESH-INTERVAL:P3D
CALSCALE:GREGORIAN
BEGIN:VEVENT
DTSTART:20241207T160000Z
DTEND:20241207T200000Z
X-MICROSOFT-CDO-ALLDAYEVENT:FALSE
SUMMARY:Indigenous Art Celebration & Market at the Pearl Fincher Museum
DESCRIPTION:The Pearl Fincher Museum of Fine Arts will host an Indigenous Art Pop-Up Celebration & Market on Saturday\, December 7 from 10 a.m. to 2 p.m.   Join us for a day filled with vibrant art\, cultural dance exhibitions\, crafts\, and opportunities to learn. This family-friendly event will include a dance performance at 12 p.m. by Indigenous ACE (Arts\, Culture\, Education)\, educational crafts led by artist Locinda Landry\, and an Art Market with unique art by Indigenous artists.   The celebration takes place at the museum and admission is free. Registration is requested at pearlmfa.org.
X-ALT-DESC;FMTTYPE=text/html:The Pearl Fincher Museum of Fine Arts will host an Indigenous Art Pop-Up Celebration &amp\; Market on Saturday\, December 7 from 10 a.m. to 2 p.m. &nbsp\; Join us for a day filled with vibrant art\, cultural dance exhibitions\, crafts\, and opportunities to learn. This family-friendly event will include a dance performance at 12 p.m. by Indigenous ACE (Arts\, Culture\, Education)\, educational crafts led by artist Locinda Landry\, and an Art Market with unique art by Indigenous artists. &nbsp\; The celebration takes place at the museum and admission is free. Registration is requested at pearlmfa.org.
LOCATION:Pearl Fincher Museum of Fine Arts 6815 Cypresswood Drive Spring\, TX 77379
UID:e.155.39226
SEQUENCE:3
DTSTAMP:20260420T160309Z
URL:https://business.tomballchamber.org/events/details/indigenous-art-celebration-market-at-the-pearl-fincher-museum-39226
END:VEVENT

END:VCALENDAR
