BEGIN:VCALENDAR
VERSION:2.0
PRODID:-//ChamberMaster//Event Calendar 2.0//EN
METHOD:PUBLISH
X-PUBLISHED-TTL:P3D
REFRESH-INTERVAL:P3D
CALSCALE:GREGORIAN
BEGIN:VEVENT
DTSTART;VALUE=DATE:20070412
DTEND;VALUE=DATE:20070413
TRANSP:TRANSPARENT
X-MICROSOFT-CDO-ALLDAYEVENT:TRUE
SUMMARY:Income Property Analysis
DESCRIPTION:Speaker/Author: F.W. "Chip" Meyers of Meyers School of Real Estate presents a unique approach to evaluating the viability of the various conventional measurements of value\, yield\, and return in investment real estate.  At the end of this course\, the student will have a much better understanding of the pre-tax analysis of investment real estate.  In addition\, the knowledge gained in pursuing one's own personal investment portfolio\, will be invaluable.  This presentation is open to the public.  Lunch will be provided.
X-ALT-DESC;FMTTYPE=text/html:Speaker/Author: F.W. "Chip" Meyers of Meyers School of Real Estate presents a unique approach to evaluating the viability of the various conventional measurements of value\, yield\, and return in investment real estate.  At the end of this course\, the student will have a much better understanding of the pre-tax analysis of investment real estate.  In addition\, the knowledge gained in pursuing one's own personal investment portfolio\, will be invaluable.  This presentation is open to the public.  Lunch will be provided.
LOCATION:Woodforest National Bank 14235 FM 2920\, Tomball\, TX 77377
UID:e.155.1938
SEQUENCE:3
DTSTAMP:20260422T104440Z
URL:https://business.tomballchamber.org/events/details/income-property-analysis-04-12-2007-1938
END:VEVENT

END:VCALENDAR
